BEGIN:VCALENDAR
VERSION:2.0
PRODID:SchoolNow
CALSCALE:GREGORIAN
BEGIN:VEVENT
UID:2c778c4e-5d9b-11f0-93b8-0a58a9feac02
DTSTAMP:20260423T215114Z
SUMMARY:12th Grade Homebase Games
LOCATION:US Gym
URL;VALUE=URI:https://www.rak12.org/calendar/8402538/12th-grade-homebase-ga
 mes
DTSTART:20260313T120000Z
DTEND:20260313T122000Z
END:VEVENT
END:VCALENDAR
