BEGIN:VCALENDAR
VERSION:2.0
PRODID:SchoolNow
CALSCALE:GREGORIAN
BEGIN:VEVENT
UID:2c778d3e-5d9b-11f0-ac23-0a58a9feac02
DTSTAMP:20260423T215115Z
SUMMARY:High School Information Night
LOCATION:HS Flex
URL;VALUE=URI:https://www.rak12.org/calendar/8402539/high-school-informatio
 n-night
DTSTART:20260312T223000Z
DTEND:20260313T000000Z
END:VEVENT
END:VCALENDAR
