BEGIN:VCALENDAR
VERSION:2.0
PRODID:SchoolNow
CALSCALE:GREGORIAN
BEGIN:VEVENT
UID:2c778e2e-5d9b-11f0-9804-0a58a9feac02
DTSTAMP:20260423T215114Z
SUMMARY:Rising Senior Scheduling Meeting
LOCATION:HS Flex
URL;VALUE=URI:https://www.rak12.org/calendar/8402540/rising-senior-scheduli
 ng-meeting
DTSTART:20260312T183000Z
DTEND:20260312T193000Z
END:VEVENT
END:VCALENDAR
