BEGIN:VCALENDAR
VERSION:2.0
PRODID:SchoolNow
CALSCALE:GREGORIAN
BEGIN:VEVENT
UID:2c778f0a-5d9b-11f0-9c75-0a58a9feac02
DTSTAMP:20260423T215114Z
SUMMARY:Rising 11th graders Scheduling meeting
LOCATION:HS Flex
URL;VALUE=URI:https://www.rak12.org/calendar/8402541/rising-11th-graders-sc
 heduling-meeting
DTSTART:20260319T123000Z
DTEND:20260319T133000Z
END:VEVENT
END:VCALENDAR
