BEGIN:VCALENDAR
VERSION:2.0
PRODID:SchoolNow
CALSCALE:GREGORIAN
BEGIN:VEVENT
UID:2c7794b4-5d9b-11f0-a004-0a58a9feac02
DTSTAMP:20260423T215114Z
SUMMARY:Rising 9th Graders Scheduling meeting
LOCATION:LGI
URL;VALUE=URI:https://www.rak12.org/calendar/8402543/rising-9th-graders-sch
 eduling-meeting
DTSTART:20260330T133000Z
DTEND:20260330T143000Z
END:VEVENT
END:VCALENDAR
