BEGIN:VCALENDAR
VERSION:2.0
PRODID:SchoolNow
CALSCALE:GREGORIAN
BEGIN:VEVENT
UID:2c7795a4-5d9b-11f0-96dd-0a58a9feac02
DTSTAMP:20260423T215114Z
SUMMARY:9th Grade Class Meeting
LOCATION:US Gym
URL;VALUE=URI:https://www.rak12.org/calendar/8402544/9th-grade-class-meetin
 g
DTSTART:20260420T120000Z
DTEND:20260420T122000Z
END:VEVENT
END:VCALENDAR
