BEGIN:VCALENDAR
VERSION:2.0
PRODID:SchoolNow
CALSCALE:GREGORIAN
BEGIN:VEVENT
UID:2c77968a-5d9b-11f0-9f2c-0a58a9feac02
DTSTAMP:20260423T215114Z
SUMMARY:10th Grade Class Meeting
LOCATION:US Gym
URL;VALUE=URI:https://www.rak12.org/calendar/8402545/10th-grade-class-meeti
 ng
DTSTART:20260421T120000Z
DTEND:20260421T122000Z
END:VEVENT
END:VCALENDAR
