BEGIN:VCALENDAR
VERSION:2.0
PRODID:SchoolNow
CALSCALE:GREGORIAN
BEGIN:VEVENT
UID:2c77977a-5d9b-11f0-a9e1-0a58a9feac02
DTSTAMP:20260423T215114Z
SUMMARY:12th Grade Class Meeting
LOCATION:HS Flex
URL;VALUE=URI:https://www.rak12.org/calendar/8402546/12th-grade-class-meeti
 ng
DTSTART:20260427T120000Z
DTEND:20260427T122000Z
END:VEVENT
END:VCALENDAR
