BEGIN:VCALENDAR
VERSION:2.0
PRODID:SchoolNow
CALSCALE:GREGORIAN
BEGIN:VEVENT
UID:2c779860-5d9b-11f0-bded-0a58a9feac02
DTSTAMP:20260423T215114Z
SUMMARY:11th Grade Class Meeting
LOCATION:HS Flex
URL;VALUE=URI:https://www.rak12.org/calendar/8402547/11th-grade-class-meeti
 ng
DTSTART:20260423T120000Z
DTEND:20260423T122000Z
END:VEVENT
END:VCALENDAR
