BEGIN:VCALENDAR
VERSION:2.0
PRODID:SchoolNow
CALSCALE:GREGORIAN
BEGIN:VEVENT
UID:2c779946-5d9b-11f0-b674-0a58a9feac02
DTSTAMP:20260423T215114Z
SUMMARY:National Decision Day / Activities for seniors / seniors & staff co
 llege t-shirts
URL;VALUE=URI:https://www.rak12.org/calendar/8402548/national-decision-day-
 activities-for-seniors-seniors-staff-college-t-shirts
DTSTART:20260429T140000Z
DTEND:20260429T153000Z
END:VEVENT
END:VCALENDAR
