BEGIN:VCALENDAR
VERSION:2.0
PRODID:SchoolNow
CALSCALE:GREGORIAN
BEGIN:VEVENT
UID:2c779b12-5d9b-11f0-9302-0a58a9feac02
DTSTAMP:20260423T215115Z
SUMMARY:Senior Exams
LOCATION:LGI A & B
URL;VALUE=URI:https://www.rak12.org/calendar/8402550/senior-exams
DTSTART:20260528T121500Z
DTEND:20260528T174500Z
END:VEVENT
END:VCALENDAR
