BEGIN:VCALENDAR
VERSION:2.0
PRODID:SchoolNow
CALSCALE:GREGORIAN
BEGIN:VEVENT
UID:289342ca-5dce-11f0-9b09-0a58a9feac02
DTSTAMP:20260423T215115Z
SUMMARY:Senior Exams
LOCATION:LGI A & B
URL;VALUE=URI:https://www.rak12.org/calendar/8403836/senior-exams
DTSTART:20260529T121500Z
DTEND:20260529T174500Z
END:VEVENT
END:VCALENDAR
