BEGIN:VCALENDAR
VERSION:2.0
PRODID:SchoolNow
CALSCALE:GREGORIAN
BEGIN:VEVENT
UID:28934612-5dce-11f0-a23f-0a58a9feac02
DTSTAMP:20260423T215114Z
SUMMARY:Field Day
URL;VALUE=URI:https://www.rak12.org/calendar/8403837/field-day
DTSTART;VALUE=DATE:20260521
DTEND;VALUE=DATE:20260522
END:VEVENT
END:VCALENDAR
