BEGIN:VCALENDAR
VERSION:2.0
PRODID:SchoolNow
CALSCALE:GREGORIAN
BEGIN:VEVENT
UID:28935558-5dce-11f0-bcb7-0a58a9feac02
DTSTAMP:20260423T215114Z
SUMMARY:Art Show
LOCATION:US Gym\, 1st floor hallway
URL;VALUE=URI:https://www.rak12.org/calendar/8403852/art-show
DTSTART:20260429T220000Z
DTEND:20260430T000000Z
END:VEVENT
END:VCALENDAR
