BEGIN:VCALENDAR
VERSION:2.0
PRODID:SchoolNow
CALSCALE:GREGORIAN
BEGIN:VEVENT
UID:a5b09866-67f6-11f0-af02-0e7b3be424eb
DTSTAMP:20260423T215114Z
SUMMARY:Board Finance Committee
URL;VALUE=URI:https://www.rak12.org/calendar/8440978/board-finance-committe
 e
DTSTART:20260112T170000Z
DTEND:20260112T180000Z
END:VEVENT
END:VCALENDAR
