BEGIN:VCALENDAR
VERSION:2.0
PRODID:SchoolNow
CALSCALE:GREGORIAN
BEGIN:VEVENT
UID:a5b09b7c-67f6-11f0-9d01-0e7b3be424eb
DTSTAMP:20260423T215114Z
SUMMARY:Board Finance Committee
URL;VALUE=URI:https://www.rak12.org/calendar/8440981/board-finance-committe
 e
DTSTART:20260413T160000Z
DTEND:20260413T170000Z
END:VEVENT
END:VCALENDAR
