BEGIN:VCALENDAR
VERSION:2.0
PRODID:SchoolNow
CALSCALE:GREGORIAN
BEGIN:VEVENT
UID:a5b0a3ba-67f6-11f0-a34f-0e7b3be424eb
DTSTAMP:20260423T215115Z
SUMMARY:Board HR Committee
URL;VALUE=URI:https://www.rak12.org/calendar/8440989/board-hr-committee
DTSTART:20260109T173000Z
DTEND:20260109T180000Z
END:VEVENT
END:VCALENDAR
