BEGIN:VCALENDAR
VERSION:2.0
PRODID:SchoolNow
CALSCALE:GREGORIAN
BEGIN:VEVENT
UID:a5b0a4c8-67f6-11f0-adeb-0e7b3be424eb
DTSTAMP:20260423T215114Z
SUMMARY:Board HR Committee
URL;VALUE=URI:https://www.rak12.org/calendar/8440990/board-hr-committee
DTSTART:20260213T173000Z
DTEND:20260213T180000Z
END:VEVENT
END:VCALENDAR
