BEGIN:VCALENDAR
VERSION:2.0
PRODID:SchoolNow
CALSCALE:GREGORIAN
BEGIN:VEVENT
UID:a5b0a5ae-67f6-11f0-8f45-0e7b3be424eb
DTSTAMP:20260423T215114Z
SUMMARY:Board HR Committee
URL;VALUE=URI:https://www.rak12.org/calendar/8440991/board-hr-committee
DTSTART:20260313T163000Z
DTEND:20260313T170000Z
END:VEVENT
END:VCALENDAR
