BEGIN:VCALENDAR
VERSION:2.0
PRODID:SchoolNow
CALSCALE:GREGORIAN
BEGIN:VEVENT
UID:a5b0ae82-67f6-11f0-8a6c-0e7b3be424eb
DTSTAMP:20260423T215114Z
SUMMARY:Board Climate and Culture Committee
URL;VALUE=URI:https://www.rak12.org/calendar/8441001/board-climate-and-cult
 ure-committee
DTSTART:20260210T003000Z
DTEND:20260210T010000Z
END:VEVENT
END:VCALENDAR
