BEGIN:VCALENDAR
VERSION:2.0
PRODID:SchoolNow
CALSCALE:GREGORIAN
BEGIN:VEVENT
UID:a5b0af54-67f6-11f0-8628-0e7b3be424eb
DTSTAMP:20260423T215114Z
SUMMARY:Board Climate and Culture Committee
URL;VALUE=URI:https://www.rak12.org/calendar/8441002/board-climate-and-cult
 ure-committee
DTSTART:20260309T233000Z
DTEND:20260310T000000Z
END:VEVENT
END:VCALENDAR
