BEGIN:VCALENDAR
VERSION:2.0
PRODID:SchoolNow
CALSCALE:GREGORIAN
BEGIN:VEVENT
UID:a5b0b102-67f6-11f0-9d6e-0e7b3be424eb
DTSTAMP:20260423T215115Z
SUMMARY:Board Climate and Culture Committee
URL;VALUE=URI:https://www.rak12.org/calendar/8441004/board-climate-and-cult
 ure-committee
DTSTART:20260511T233000Z
DTEND:20260512T000000Z
END:VEVENT
END:VCALENDAR
