BEGIN:VCALENDAR
VERSION:2.0
PRODID:SchoolNow
CALSCALE:GREGORIAN
BEGIN:VEVENT
UID:a5b0ba3a-67f6-11f0-99d0-0e7b3be424eb
DTSTAMP:20260423T215114Z
SUMMARY:Strategic Planning Board Committee
URL;VALUE=URI:https://www.rak12.org/calendar/8441015/strategic-planning-boa
 rd-committee
DTSTART:20260402T220000Z
DTEND:20260402T230000Z
ATTACH;FILENAME=Strategic Planning Running Document 2024-2025.pdf;FMTTYPE=a
 pplication/pdf:https://drive.google.com/open?id=1s-PbSnlNcCzPMh9eq_7W7oyHi
 sTxo8wo
END:VEVENT
END:VCALENDAR
