BEGIN:VCALENDAR
VERSION:2.0
PRODID:SchoolNow
CALSCALE:GREGORIAN
BEGIN:VEVENT
UID:a5b0bb34-67f6-11f0-a4da-0e7b3be424eb
DTSTAMP:20260423T215115Z
SUMMARY:Strategic Planning Board Committee
URL;VALUE=URI:https://www.rak12.org/calendar/8441016/strategic-planning-boa
 rd-committee
DTSTART:20260507T220000Z
DTEND:20260507T230000Z
ATTACH;FILENAME=Strategic Planning Running Document 2024-2025.pdf;FMTTYPE=a
 pplication/pdf:https://drive.google.com/open?id=1s-PbSnlNcCzPMh9eq_7W7oyHi
 sTxo8wo
END:VEVENT
END:VCALENDAR
