BEGIN:VCALENDAR
VERSION:2.0
PRODID:SchoolNow
CALSCALE:GREGORIAN
BEGIN:VEVENT
UID:a5b0c228-67f6-11f0-a371-0e7b3be424eb
DTSTAMP:20260423T215114Z
SUMMARY:Curriculum and Achievement Committee Meeting
URL;VALUE=URI:https://www.rak12.org/calendar/8441024/curriculum-and-achieve
 ment-committee-meeting
DTSTART:20260106T230000Z
DTEND:20260106T234000Z
ATTACH;FILENAME=April 2025 C&A Meeting Agenda.pdf;FMTTYPE=application/pdf:h
 ttps://drive.google.com/open?id=1V9cXJrRsmi4K3-jY6koP4szVrB9tVrJH
ATTACH;FILENAME=January 2026 C&A Meeting Agenda;FMTTYPE=application/octet-s
 tream:https://docs.google.com/open?id=1uQFhYs4AeyPe9Cr5aItFL18BnqXzDNFjndR
 H0FG2o-k
END:VEVENT
END:VCALENDAR
