BEGIN:VCALENDAR
VERSION:2.0
PRODID:SchoolNow
CALSCALE:GREGORIAN
BEGIN:VEVENT
UID:a5b0c2fa-67f6-11f0-a22c-0e7b3be424eb
DTSTAMP:20260423T215114Z
SUMMARY:Curriculum and Achievement Committee Meeting
URL;VALUE=URI:https://www.rak12.org/calendar/8441025/curriculum-and-achieve
 ment-committee-meeting
DTSTART:20260203T230000Z
DTEND:20260203T234000Z
ATTACH;FILENAME=February 2026 C&A Meeting Agenda;FMTTYPE=application/octet-
 stream:https://drive.google.com/open?id=1IjOfIX-PYSe3AAe_M7zayjxmmFJLDYEp6
 PJJUAO7axY
END:VEVENT
END:VCALENDAR
