BEGIN:VCALENDAR
VERSION:2.0
PRODID:SchoolNow
CALSCALE:GREGORIAN
BEGIN:VEVENT
UID:a5b0c3cc-67f6-11f0-8081-0e7b3be424eb
DTSTAMP:20260423T215115Z
SUMMARY:Curriculum and Achievement Committee Meeting
URL;VALUE=URI:https://www.rak12.org/calendar/8441026/curriculum-and-achieve
 ment-committee-meeting
DTSTART:20260303T230000Z
DTEND:20260303T234000Z
ATTACH;FILENAME=April 2025 C&A Meeting Agenda.pdf;FMTTYPE=application/pdf:h
 ttps://drive.google.com/open?id=1V9cXJrRsmi4K3-jY6koP4szVrB9tVrJH
END:VEVENT
END:VCALENDAR
