BEGIN:VCALENDAR
VERSION:2.0
PRODID:SchoolNow
CALSCALE:GREGORIAN
BEGIN:VEVENT
UID:a5b0cba6-67f6-11f0-b53d-0e7b3be424eb
DTSTAMP:20260423T215114Z
SUMMARY:School Board Public Meeting
URL;VALUE=URI:https://www.rak12.org/calendar/8441035/school-board-public-me
 eting
DTSTART:20260116T000000Z
DTEND:20260116T010000Z
ATTACH;FILENAME=15Jan26 Board Agenda.pdf;FMTTYPE=application/pdf:https://dr
 ive.google.com/open?id=131GYI03knI11eHyjxcaIq9YZQOefAoF5
END:VEVENT
END:VCALENDAR
