BEGIN:VCALENDAR
VERSION:2.0
PRODID:SchoolNow
CALSCALE:GREGORIAN
BEGIN:VEVENT
UID:a5b0d3f8-67f6-11f0-a086-0e7b3be424eb
DTSTAMP:20260423T215114Z
SUMMARY:Legistlative Awarness Committee Meeting
LOCATION:VIRTUAL See Agenda for Link
URL;VALUE=URI:https://www.rak12.org/calendar/8441045/legistlative-awarness-
 committee-meeting
DTSTART:20260507T160000Z
DTEND:20260507T163000Z
ATTACH;FILENAME=May Agenda.docx;FMTTYPE=application/vnd.openxmlformats-offi
 cedocument.wordprocessingml.document:https://drive.google.com/open?id=164G
 mj-sE_THVOn-lKXcKKDZqAEiK_dJR
END:VEVENT
END:VCALENDAR
