BEGIN:VCALENDAR
VERSION:2.0
PRODID:SchoolNow
CALSCALE:GREGORIAN
BEGIN:VEVENT
UID:a5b0d8a8-67f6-11f0-943a-0e7b3be424eb
DTSTAMP:20260423T215114Z
SUMMARY:Board Development Committee
URL;VALUE=URI:https://www.rak12.org/calendar/8441050/board-development-comm
 ittee
DTSTART:20260217T203000Z
DTEND:20260217T213000Z
ATTACH;FILENAME=02.17.2026 Board Development Committee Meeting Agenda;FMTTY
 PE=application/octet-stream:https://drive.google.com/open?id=18Q3UpfP7coUg
 vvXWLIZEsdMV8AF5_-yshPP4uuOCORw
END:VEVENT
END:VCALENDAR
