BEGIN:VCALENDAR
VERSION:2.0
PRODID:SchoolNow
CALSCALE:GREGORIAN
BEGIN:VEVENT
UID:a5b0da56-67f6-11f0-a0f5-0e7b3be424eb
DTSTAMP:20260423T215115Z
SUMMARY:Board Development Committee
URL;VALUE=URI:https://www.rak12.org/calendar/8441052/board-development-comm
 ittee
DTSTART:20260413T223000Z
DTEND:20260413T231500Z
END:VEVENT
END:VCALENDAR
