BEGIN:VCALENDAR
VERSION:2.0
PRODID:SchoolNow
CALSCALE:GREGORIAN
BEGIN:VEVENT
UID:9e515ff0-6829-11f0-837a-0a58a9feac02
DTSTAMP:20260423T215114Z
SUMMARY:Princeton Review
LOCATION:HS Flex
URL;VALUE=URI:https://www.rak12.org/calendar/8441636/princeton-review
DTSTART:20260124T133000Z
DTEND:20260124T180000Z
END:VEVENT
END:VCALENDAR
