BEGIN:VCALENDAR
VERSION:2.0
PRODID:SchoolNow
CALSCALE:GREGORIAN
BEGIN:VEVENT
UID:9e5163f6-6829-11f0-a736-0a58a9feac02
DTSTAMP:20260423T215114Z
SUMMARY:Princeton Review
LOCATION:HS Flex
URL;VALUE=URI:https://www.rak12.org/calendar/8441637/princeton-review
DTSTART:20260207T140000Z
DTEND:20260207T170000Z
END:VEVENT
END:VCALENDAR
