BEGIN:VCALENDAR
VERSION:2.0
PRODID:SchoolNow
CALSCALE:GREGORIAN
BEGIN:VEVENT
UID:9e516536-6829-11f0-b6df-0a58a9feac02
DTSTAMP:20260423T215114Z
SUMMARY:Princeton Review
LOCATION:Virtual
URL;VALUE=URI:https://www.rak12.org/calendar/8441638/princeton-review
DTSTART:20260221T133000Z
DTEND:20260221T180000Z
END:VEVENT
END:VCALENDAR
