BEGIN:VCALENDAR
VERSION:2.0
PRODID:SchoolNow
CALSCALE:GREGORIAN
BEGIN:VEVENT
UID:9e516644-6829-11f0-b596-0a58a9feac02
DTSTAMP:20260423T215114Z
SUMMARY:Princeton Review
LOCATION:HS Flex
URL;VALUE=URI:https://www.rak12.org/calendar/8441639/princeton-review
DTSTART:20260228T133000Z
DTEND:20260228T180000Z
END:VEVENT
END:VCALENDAR
