BEGIN:VCALENDAR
VERSION:2.0
PRODID:SchoolNow
CALSCALE:GREGORIAN
BEGIN:VEVENT
UID:9e516810-6829-11f0-a594-0a58a9feac02
DTSTAMP:20260423T215114Z
SUMMARY:Princeton Review
LOCATION:HS Flex
URL;VALUE=URI:https://www.rak12.org/calendar/8441640/princeton-review
DTSTART:20260307T133000Z
DTEND:20260307T180000Z
END:VEVENT
END:VCALENDAR
