BEGIN:VCALENDAR
VERSION:2.0
PRODID:SchoolNow
CALSCALE:GREGORIAN
BEGIN:VEVENT
UID:9e516928-6829-11f0-b298-0a58a9feac02
DTSTAMP:20260423T215114Z
SUMMARY:Princeton Review
LOCATION:HS Flex
URL;VALUE=URI:https://www.rak12.org/calendar/8441641/princeton-review
DTSTART:20260314T123000Z
DTEND:20260314T170000Z
END:VEVENT
END:VCALENDAR
