BEGIN:VCALENDAR
VERSION:2.0
PRODID:SchoolNow
CALSCALE:GREGORIAN
BEGIN:VEVENT
UID:9e516a18-6829-11f0-80b8-0a58a9feac02
DTSTAMP:20260423T215114Z
SUMMARY:Princeton Review
LOCATION:HS Flex
URL;VALUE=URI:https://www.rak12.org/calendar/8441642/princeton-review
DTSTART:20260321T123000Z
DTEND:20260321T170000Z
END:VEVENT
END:VCALENDAR
