BEGIN:VCALENDAR
VERSION:2.0
PRODID:SchoolNow
CALSCALE:GREGORIAN
BEGIN:VEVENT
UID:9e516b08-6829-11f0-9c6c-0a58a9feac02
DTSTAMP:20260423T215114Z
SUMMARY:Princeton Review
LOCATION:HS Flex
URL;VALUE=URI:https://www.rak12.org/calendar/8441643/princeton-review
DTSTART:20260328T123000Z
DTEND:20260328T170000Z
END:VEVENT
END:VCALENDAR
