BEGIN:VCALENDAR
VERSION:2.0
PRODID:SchoolNow
CALSCALE:GREGORIAN
BEGIN:VEVENT
UID:9e516bf8-6829-11f0-b503-0a58a9feac02
DTSTAMP:20260423T215114Z
SUMMARY:Financial Reality Fair
LOCATION:US Gym
URL;VALUE=URI:https://www.rak12.org/calendar/8441644/financial-reality-fair
DTSTART:20260317T113000Z
DTEND:20260317T171500Z
END:VEVENT
END:VCALENDAR
