BEGIN:VCALENDAR
VERSION:2.0
PRODID:SchoolNow
CALSCALE:GREGORIAN
BEGIN:VEVENT
UID:9e516cde-6829-11f0-b1ac-0a58a9feac02
DTSTAMP:20260423T215114Z
SUMMARY:SAT School Day
URL;VALUE=URI:https://www.rak12.org/calendar/8441645/sat-school-day
DTSTART:20260402T120000Z
DTEND:20260402T180000Z
END:VEVENT
END:VCALENDAR
