BEGIN:VCALENDAR
VERSION:2.0
PRODID:SchoolNow
CALSCALE:GREGORIAN
BEGIN:VEVENT
UID:3fa88582-721f-11f0-b77f-0a58a9feac02
DTSTAMP:20260423T215114Z
SUMMARY:Literature CDT (10th Grade ELA)
URL;VALUE=URI:https://www.rak12.org/calendar/8473062/literature-cdt-10th-gr
 ade-ela
DTSTART;VALUE=DATE:20260417
DTEND;VALUE=DATE:20260418
END:VEVENT
END:VCALENDAR
