BEGIN:VCALENDAR
VERSION:2.0
PRODID:SchoolNow
CALSCALE:GREGORIAN
BEGIN:VEVENT
UID:3fe03c0c-721f-11f0-af5a-0a58a9feac02
DTSTAMP:20260423T215115Z
SUMMARY:3rd - 8th Grade MAP Testing
URL;VALUE=URI:https://www.rak12.org/calendar/8473072/3rd-8th-grade-map-test
 ing
DTSTART;VALUE=DATE:20260109
DTEND;VALUE=DATE:20260110
END:VEVENT
END:VCALENDAR
