BEGIN:VCALENDAR
VERSION:2.0
PRODID:SchoolNow
CALSCALE:GREGORIAN
BEGIN:VEVENT
UID:3fe03dce-721f-11f0-a285-0a58a9feac02
DTSTAMP:20260423T215115Z
SUMMARY:3rd - 8th Grade MAP Testing
URL;VALUE=URI:https://www.rak12.org/calendar/8473074/3rd-8th-grade-map-test
 ing
DTSTART;VALUE=DATE:20260113
DTEND;VALUE=DATE:20260114
END:VEVENT
END:VCALENDAR
