BEGIN:VCALENDAR
VERSION:2.0
PRODID:SchoolNow
CALSCALE:GREGORIAN
BEGIN:VEVENT
UID:3fe03f9a-721f-11f0-a6d0-0a58a9feac02
DTSTAMP:20260423T215115Z
SUMMARY:Math Department CDT Testing
URL;VALUE=URI:https://www.rak12.org/calendar/8473076/math-department-cdt-te
 sting
DTSTART;VALUE=DATE:20260109
DTEND;VALUE=DATE:20260110
END:VEVENT
END:VCALENDAR
