BEGIN:VCALENDAR
VERSION:2.0
PRODID:SchoolNow
CALSCALE:GREGORIAN
BEGIN:VEVENT
UID:3fe0415c-721f-11f0-8478-0a58a9feac02
DTSTAMP:20260423T215115Z
SUMMARY:Science Department CDT Testing
URL;VALUE=URI:https://www.rak12.org/calendar/8473078/science-department-cdt
 -testing
DTSTART;VALUE=DATE:20260113
DTEND;VALUE=DATE:20260114
END:VEVENT
END:VCALENDAR
