BEGIN:VCALENDAR
VERSION:2.0
PRODID:SchoolNow
CALSCALE:GREGORIAN
BEGIN:VEVENT
UID:3fe04238-721f-11f0-94bd-0a58a9feac02
DTSTAMP:20260423T215115Z
SUMMARY:ELA CDT Testing
URL;VALUE=URI:https://www.rak12.org/calendar/8473079/ela-cdt-testing
DTSTART;VALUE=DATE:20260114
DTEND;VALUE=DATE:20260115
END:VEVENT
END:VCALENDAR
