BEGIN:VCALENDAR
VERSION:2.0
PRODID:SchoolNow
CALSCALE:GREGORIAN
BEGIN:VEVENT
UID:3fe043f0-721f-11f0-ac87-0a58a9feac02
DTSTAMP:20260423T215115Z
SUMMARY:ELA CDT Testing
URL;VALUE=URI:https://www.rak12.org/calendar/8473081/ela-cdt-testing
DTSTART;VALUE=DATE:20260116
DTEND;VALUE=DATE:20260117
END:VEVENT
END:VCALENDAR
