BEGIN:VCALENDAR
VERSION:2.0
PRODID:SchoolNow
CALSCALE:GREGORIAN
BEGIN:VEVENT
UID:3fe04940-721f-11f0-a2f8-0a58a9feac02
DTSTAMP:20260423T215115Z
SUMMARY:Math Department CDTs
URL;VALUE=URI:https://www.rak12.org/calendar/8473086/math-department-cdts
DTSTART;VALUE=DATE:20260528
DTEND;VALUE=DATE:20260529
END:VEVENT
END:VCALENDAR
