BEGIN:VCALENDAR
VERSION:2.0
PRODID:SchoolNow
CALSCALE:GREGORIAN
BEGIN:VEVENT
UID:3fe04a26-721f-11f0-b071-0a58a9feac02
DTSTAMP:20260423T215115Z
SUMMARY:Math Department CDTs
URL;VALUE=URI:https://www.rak12.org/calendar/8473087/math-department-cdts
DTSTART;VALUE=DATE:20260529
DTEND;VALUE=DATE:20260530
END:VEVENT
END:VCALENDAR
